BEGIN:VCALENDAR
VERSION:2.0
PRODID:-//Casual Dining Ocean City MD | Newest Bar Dry Dock 28 - ECPv4.9.14.1//NONSGML v1.0//EN
CALSCALE:GREGORIAN
METHOD:PUBLISH
X-WR-CALNAME:Casual Dining Ocean City MD | Newest Bar Dry Dock 28
X-ORIGINAL-URL:https://drydockoc.com
X-WR-CALDESC:Events for Casual Dining Ocean City MD | Newest Bar Dry Dock 28
BEGIN:VTIMEZONE
TZID:America/New_York
BEGIN:DAYLIGHT
TZOFFSETFROM:-0500
TZOFFSETTO:-0400
TZNAME:EDT
DTSTART:20190310T070000
END:DAYLIGHT
BEGIN:STANDARD
TZOFFSETFROM:-0400
TZOFFSETTO:-0500
TZNAME:EST
DTSTART:20191103T060000
END:STANDARD
END:VTIMEZONE
BEGIN:VEVENT
DTSTART;VALUE=DATE:20191201
DTEND;VALUE=DATE:20191202
DTSTAMP:20260424T171400
CREATED:20190619T193840Z
LAST-MODIFIED:20190619T193840Z
UID:1563-1575158400-1575244799@drydockoc.com
SUMMARY:Steelers vs. Cleveland
DESCRIPTION:
URL:https://drydockoc.com/event/steelers-vs-cleveland/
END:VEVENT
END:VCALENDAR