BEGIN:VCALENDAR
VERSION:2.0
PRODID:-//Casual Dining Ocean City MD | Newest Bar Dry Dock 28 - ECPv4.9.14.1//NONSGML v1.0//EN
CALSCALE:GREGORIAN
METHOD:PUBLISH
X-WR-CALNAME:Casual Dining Ocean City MD | Newest Bar Dry Dock 28
X-ORIGINAL-URL:https://drydockoc.com
X-WR-CALDESC:Events for Casual Dining Ocean City MD | Newest Bar Dry Dock 28
BEGIN:VTIMEZONE
TZID:America/New_York
BEGIN:DAYLIGHT
TZOFFSETFROM:-0500
TZOFFSETTO:-0400
TZNAME:EDT
DTSTART:20190310T070000
END:DAYLIGHT
BEGIN:STANDARD
TZOFFSETFROM:-0400
TZOFFSETTO:-0500
TZNAME:EST
DTSTART:20191103T060000
END:STANDARD
END:VTIMEZONE
BEGIN:VEVENT
DTSTART;VALUE=DATE:20191208
DTEND;VALUE=DATE:20191209
DTSTAMP:20260424T215600
CREATED:20190619T194003Z
LAST-MODIFIED:20190619T194003Z
UID:1565-1575763200-1575849599@drydockoc.com
SUMMARY:Steelers at Arizona
DESCRIPTION:
URL:https://drydockoc.com/event/steelers-at-arizona/
END:VEVENT
END:VCALENDAR