BEGIN:VCALENDAR
VERSION:2.0
PRODID:-//Casual Dining Ocean City MD | Newest Bar Dry Dock 28 - ECPv4.9.14.1//NONSGML v1.0//EN
CALSCALE:GREGORIAN
METHOD:PUBLISH
X-WR-CALNAME:Casual Dining Ocean City MD | Newest Bar Dry Dock 28
X-ORIGINAL-URL:https://drydockoc.com
X-WR-CALDESC:Events for Casual Dining Ocean City MD | Newest Bar Dry Dock 28
BEGIN:VTIMEZONE
TZID:America/New_York
BEGIN:DAYLIGHT
TZOFFSETFROM:-0500
TZOFFSETTO:-0400
TZNAME:EDT
DTSTART:20200308T070000
END:DAYLIGHT
BEGIN:STANDARD
TZOFFSETFROM:-0400
TZOFFSETTO:-0500
TZNAME:EST
DTSTART:20201101T060000
END:STANDARD
END:VTIMEZONE
BEGIN:VEVENT
DTSTART;TZID=America/New_York:20200310T110000
DTEND;TZID=America/New_York:20200310T150000
DTSTAMP:20260426T021517
CREATED:20200207T164652Z
LAST-MODIFIED:20200207T165119Z
UID:1717-1583838000-1583852400@drydockoc.com
SUMMARY:Southern Glazer Wine and Liquor Expo
DESCRIPTION:Southern Glazer is putting on an expo to show off all their new spirits and fine wines!! Come in and sample some of your favorites and find something new to enjoy!! We won’t leave you hungry\, food specials as well!! \n
URL:https://drydockoc.com/event/southern-glazer-wine-and-liquor-expo/
ATTACH;FMTTYPE=image/jpeg:/app/uploads/2017/06/IMG_1066-scaled.jpg
END:VEVENT
END:VCALENDAR