BEGIN:VCALENDAR
VERSION:2.0
PRODID:-//Casual Dining Ocean City MD | Newest Bar Dry Dock 28 - ECPv4.9.14.1//NONSGML v1.0//EN
CALSCALE:GREGORIAN
METHOD:PUBLISH
X-WR-CALNAME:Casual Dining Ocean City MD | Newest Bar Dry Dock 28
X-ORIGINAL-URL:https://drydockoc.com
X-WR-CALDESC:Events for Casual Dining Ocean City MD | Newest Bar Dry Dock 28
BEGIN:VTIMEZONE
TZID:America/New_York
BEGIN:DAYLIGHT
TZOFFSETFROM:-0500
TZOFFSETTO:-0400
TZNAME:EDT
DTSTART:20200308T070000
END:DAYLIGHT
BEGIN:STANDARD
TZOFFSETFROM:-0400
TZOFFSETTO:-0500
TZNAME:EST
DTSTART:20201101T060000
END:STANDARD
END:VTIMEZONE
BEGIN:VEVENT
DTSTART;TZID=America/New_York:20200309T150000
DTEND;TZID=America/New_York:20200309T210000
DTSTAMP:20260426T002510
CREATED:20200207T164056Z
LAST-MODIFIED:20200207T164056Z
UID:1715-1583766000-1583787600@drydockoc.com
SUMMARY:HMRA Show Industry After Party
DESCRIPTION:When you get your fill of local crafts and all those new ideas for your business\, come in and and rock out the after party with DJ Wax!! Don’t be the only one that doesn’t show up at the spot to be after the show!! \n
URL:https://drydockoc.com/event/hmra-show-industry-after-party/
END:VEVENT
END:VCALENDAR