BEGIN:VCALENDAR
VERSION:2.0
PRODID:-//Casual Dining Ocean City MD | Newest Bar Dry Dock 28 - ECPv4.9.14.1//NONSGML v1.0//EN
CALSCALE:GREGORIAN
METHOD:PUBLISH
X-WR-CALNAME:Casual Dining Ocean City MD | Newest Bar Dry Dock 28
X-ORIGINAL-URL:https://drydockoc.com
X-WR-CALDESC:Events for Casual Dining Ocean City MD | Newest Bar Dry Dock 28
BEGIN:VTIMEZONE
TZID:America/New_York
BEGIN:DAYLIGHT
TZOFFSETFROM:-0500
TZOFFSETTO:-0400
TZNAME:EDT
DTSTART:20180311T070000
END:DAYLIGHT
BEGIN:STANDARD
TZOFFSETFROM:-0400
TZOFFSETTO:-0500
TZNAME:EST
DTSTART:20181104T060000
END:STANDARD
END:VTIMEZONE
BEGIN:VEVENT
DTSTART;TZID=America/New_York:20180204T170000
DTEND;TZID=America/New_York:20180204T220000
DTSTAMP:20260421T013223
CREATED:20180117T161654Z
LAST-MODIFIED:20180124T182238Z
UID:1002-1517763600-1517781600@drydockoc.com
SUMMARY:The Big Game Party
DESCRIPTION:Celebrate the Big Game with us with great specials! Menu posted soon… \n
URL:https://drydockoc.com/event/big-game-party/
END:VEVENT
END:VCALENDAR